BEGIN:VCALENDAR
VERSION:2.0
PRODID:-//Radio Pacific Inc - ECPv5.6.0//NONSGML v1.0//EN
CALSCALE:GREGORIAN
METHOD:PUBLISH
X-WR-CALNAME:Radio Pacific Inc
X-ORIGINAL-URL:https://www.myclallamcounty.com
X-WR-CALDESC:Events for Radio Pacific Inc
BEGIN:VTIMEZONE
TZID:America/Los_Angeles
BEGIN:DAYLIGHT
TZOFFSETFROM:-0800
TZOFFSETTO:-0700
TZNAME:PDT
DTSTART:20260308T100000
END:DAYLIGHT
BEGIN:STANDARD
TZOFFSETFROM:-0700
TZOFFSETTO:-0800
TZNAME:PST
DTSTART:20261101T090000
END:STANDARD
END:VTIMEZONE
BEGIN:VEVENT
DTSTART;TZID=America/Los_Angeles:20260419T140000
DTEND;TZID=America/Los_Angeles:20260419T163000
DTSTAMP:20260424T082109
CREATED:20251204T175216Z
LAST-MODIFIED:20251222T234125Z
UID:313784-1776607200-1776616200@www.myclallamcounty.com
SUMMARY:The Odd Couple
DESCRIPTION:April 10th-26th \nComedy \nThis classic comedy opens on a friendly card game in the untidy apartment of divorced Oscar Madison. And if the mess is any indication\, it’s no wonder that his wife left him. Late to arrive is Felix Ungar\, who has just been separated from his wife. Fastidious\, depressed\, and none too tense\, Felix seems suicidal. But as the play progresses\, Oscar becomes the one with murder on his mind when the clean freak and the slob ultimately decide to room together. The action unfolds with hilarious results as The Odd Couple is born. \nFriday & Saturday Performances at 7:00pm\nSunday Performances at 2:00pm
URL:https://www.myclallamcounty.com/event/the-odd-couple/2026-04-19/
LOCATION:Olympic Theatre Arts\, 414 N Sequim Ave\, Sequim\, WA\, 98382\, United States
CATEGORIES:Event
ATTACH;FMTTYPE=image/jpeg:https://dehayf5mhw1h7.cloudfront.net/wp-content/uploads/sites/2697/2025/12/03164526/the-odd-couple.jpg
ORGANIZER;CN="Olympic%20Theatre%20Arts":MAILTO:office@olympictheatrearts.org
END:VEVENT
BEGIN:VEVENT
DTSTART;TZID=America/Los_Angeles:20260418T190000
DTEND;TZID=America/Los_Angeles:20260418T213000
DTSTAMP:20260424T082109
CREATED:20251204T175216Z
LAST-MODIFIED:20251222T234124Z
UID:313783-1776538800-1776547800@www.myclallamcounty.com
SUMMARY:The Odd Couple
DESCRIPTION:April 10th-26th \nComedy \nThis classic comedy opens on a friendly card game in the untidy apartment of divorced Oscar Madison. And if the mess is any indication\, it’s no wonder that his wife left him. Late to arrive is Felix Ungar\, who has just been separated from his wife. Fastidious\, depressed\, and none too tense\, Felix seems suicidal. But as the play progresses\, Oscar becomes the one with murder on his mind when the clean freak and the slob ultimately decide to room together. The action unfolds with hilarious results as The Odd Couple is born. \nFriday & Saturday Performances at 7:00pm\nSunday Performances at 2:00pm
URL:https://www.myclallamcounty.com/event/the-odd-couple/2026-04-18/
LOCATION:Olympic Theatre Arts\, 414 N Sequim Ave\, Sequim\, WA\, 98382\, United States
CATEGORIES:Event
ATTACH;FMTTYPE=image/jpeg:https://dehayf5mhw1h7.cloudfront.net/wp-content/uploads/sites/2697/2025/12/03164526/the-odd-couple.jpg
ORGANIZER;CN="Olympic%20Theatre%20Arts":MAILTO:office@olympictheatrearts.org
END:VEVENT
BEGIN:VEVENT
DTSTART;TZID=America/Los_Angeles:20260417T190000
DTEND;TZID=America/Los_Angeles:20260417T213000
DTSTAMP:20260424T082109
CREATED:20251204T175216Z
LAST-MODIFIED:20251222T234123Z
UID:313782-1776452400-1776461400@www.myclallamcounty.com
SUMMARY:The Odd Couple
DESCRIPTION:April 10th-26th \nComedy \nThis classic comedy opens on a friendly card game in the untidy apartment of divorced Oscar Madison. And if the mess is any indication\, it’s no wonder that his wife left him. Late to arrive is Felix Ungar\, who has just been separated from his wife. Fastidious\, depressed\, and none too tense\, Felix seems suicidal. But as the play progresses\, Oscar becomes the one with murder on his mind when the clean freak and the slob ultimately decide to room together. The action unfolds with hilarious results as The Odd Couple is born. \nFriday & Saturday Performances at 7:00pm\nSunday Performances at 2:00pm
URL:https://www.myclallamcounty.com/event/the-odd-couple/2026-04-17/
LOCATION:Olympic Theatre Arts\, 414 N Sequim Ave\, Sequim\, WA\, 98382\, United States
CATEGORIES:Event
ATTACH;FMTTYPE=image/jpeg:https://dehayf5mhw1h7.cloudfront.net/wp-content/uploads/sites/2697/2025/12/03164526/the-odd-couple.jpg
ORGANIZER;CN="Olympic%20Theatre%20Arts":MAILTO:office@olympictheatrearts.org
END:VEVENT
BEGIN:VEVENT
DTSTART;TZID=America/Los_Angeles:20260412T140000
DTEND;TZID=America/Los_Angeles:20260412T163000
DTSTAMP:20260424T082109
CREATED:20251204T175216Z
LAST-MODIFIED:20251222T234122Z
UID:313781-1776002400-1776011400@www.myclallamcounty.com
SUMMARY:The Odd Couple
DESCRIPTION:April 10th-26th \nComedy \nThis classic comedy opens on a friendly card game in the untidy apartment of divorced Oscar Madison. And if the mess is any indication\, it’s no wonder that his wife left him. Late to arrive is Felix Ungar\, who has just been separated from his wife. Fastidious\, depressed\, and none too tense\, Felix seems suicidal. But as the play progresses\, Oscar becomes the one with murder on his mind when the clean freak and the slob ultimately decide to room together. The action unfolds with hilarious results as The Odd Couple is born. \nFriday & Saturday Performances at 7:00pm\nSunday Performances at 2:00pm
URL:https://www.myclallamcounty.com/event/the-odd-couple/2026-04-12/
LOCATION:Olympic Theatre Arts\, 414 N Sequim Ave\, Sequim\, WA\, 98382\, United States
CATEGORIES:Event
ATTACH;FMTTYPE=image/jpeg:https://dehayf5mhw1h7.cloudfront.net/wp-content/uploads/sites/2697/2025/12/03164526/the-odd-couple.jpg
ORGANIZER;CN="Olympic%20Theatre%20Arts":MAILTO:office@olympictheatrearts.org
END:VEVENT
BEGIN:VEVENT
DTSTART;TZID=America/Los_Angeles:20260411T190000
DTEND;TZID=America/Los_Angeles:20260411T213000
DTSTAMP:20260424T082109
CREATED:20251204T175216Z
LAST-MODIFIED:20251222T234120Z
UID:313780-1775934000-1775943000@www.myclallamcounty.com
SUMMARY:The Odd Couple
DESCRIPTION:April 10th-26th \nComedy \nThis classic comedy opens on a friendly card game in the untidy apartment of divorced Oscar Madison. And if the mess is any indication\, it’s no wonder that his wife left him. Late to arrive is Felix Ungar\, who has just been separated from his wife. Fastidious\, depressed\, and none too tense\, Felix seems suicidal. But as the play progresses\, Oscar becomes the one with murder on his mind when the clean freak and the slob ultimately decide to room together. The action unfolds with hilarious results as The Odd Couple is born. \nFriday & Saturday Performances at 7:00pm\nSunday Performances at 2:00pm
URL:https://www.myclallamcounty.com/event/the-odd-couple/2026-04-11/
LOCATION:Olympic Theatre Arts\, 414 N Sequim Ave\, Sequim\, WA\, 98382\, United States
CATEGORIES:Event
ATTACH;FMTTYPE=image/jpeg:https://dehayf5mhw1h7.cloudfront.net/wp-content/uploads/sites/2697/2025/12/03164526/the-odd-couple.jpg
ORGANIZER;CN="Olympic%20Theatre%20Arts":MAILTO:office@olympictheatrearts.org
END:VEVENT
BEGIN:VEVENT
DTSTART;TZID=America/Los_Angeles:20260410T190000
DTEND;TZID=America/Los_Angeles:20260410T213000
DTSTAMP:20260424T082109
CREATED:20251204T175216Z
LAST-MODIFIED:20251222T234118Z
UID:313778-1775847600-1775856600@www.myclallamcounty.com
SUMMARY:The Odd Couple
DESCRIPTION:April 10th-26th \nComedy \nThis classic comedy opens on a friendly card game in the untidy apartment of divorced Oscar Madison. And if the mess is any indication\, it’s no wonder that his wife left him. Late to arrive is Felix Ungar\, who has just been separated from his wife. Fastidious\, depressed\, and none too tense\, Felix seems suicidal. But as the play progresses\, Oscar becomes the one with murder on his mind when the clean freak and the slob ultimately decide to room together. The action unfolds with hilarious results as The Odd Couple is born. \nFriday & Saturday Performances at 7:00pm\nSunday Performances at 2:00pm
URL:https://www.myclallamcounty.com/event/the-odd-couple/2026-04-10/
LOCATION:Olympic Theatre Arts\, 414 N Sequim Ave\, Sequim\, WA\, 98382\, United States
CATEGORIES:Event
ATTACH;FMTTYPE=image/jpeg:https://dehayf5mhw1h7.cloudfront.net/wp-content/uploads/sites/2697/2025/12/03164526/the-odd-couple.jpg
ORGANIZER;CN="Olympic%20Theatre%20Arts":MAILTO:office@olympictheatrearts.org
END:VEVENT
END:VCALENDAR